BEGIN:VCALENDAR
VERSION:2.0
PRODID:-//Fairview Baptist Church - ECPv6.13.2.1//NONSGML v1.0//EN
CALSCALE:GREGORIAN
METHOD:PUBLISH
X-WR-CALNAME:Fairview Baptist Church
X-ORIGINAL-URL:https://fairview-baptist.org
X-WR-CALDESC:Events for Fairview Baptist Church
REFRESH-INTERVAL;VALUE=DURATION:PT1H
X-Robots-Tag:noindex
X-PUBLISHED-TTL:PT1H
BEGIN:VTIMEZONE
TZID:America/New_York
BEGIN:DAYLIGHT
TZOFFSETFROM:-0500
TZOFFSETTO:-0400
TZNAME:EDT
DTSTART:20250309T070000
END:DAYLIGHT
BEGIN:STANDARD
TZOFFSETFROM:-0400
TZOFFSETTO:-0500
TZNAME:EST
DTSTART:20251102T060000
END:STANDARD
END:VTIMEZONE
BEGIN:VEVENT
DTSTART;TZID=America/New_York:20250616T090000
DTEND;TZID=America/New_York:20250616T123000
DTSTAMP:20260424T070143
CREATED:20190312T201106Z
LAST-MODIFIED:20241029T235320Z
UID:26957-1750064400-1750077000@fairview-baptist.org
SUMMARY:Vacation Bible School
DESCRIPTION:[vc_row][vc_column width=”2/3″][/vc_column][vc_column width=”1/3″ css=”.vc_custom_1651694468751{margin-top: -80px !important;}” tablet_margin_top=”0″ mobile_margin_top=”0″][vc_single_image image=”28725″ img_size=”full” alignment=”center” css=””][vc_column_text css=””]Fairview Baptist is hosting our VBS June 16-20\, 2025 from 9:00am to 12:00pm. \nVBS is for children age 4 (as of June 16th) through children who have completed 5th grade in 2024\, and we’ll be meeting indoors for most of our activities. \nIf you have questions about VBS\, please feel free to call the church at (540) 373-8377\, or send an e-mail to vbs@fairview-baptist.org.[/vc_column_text][vc_btn title=”REGISTER NOW” style=”custom” custom_background=”#e15260″ custom_text=”#ffffff” shape=”square” size=”lg” align=”center” link=”url:https%3A%2F%2Fkideventpro.lifeway.com%2FmyEvent%2F%3Fid%3D67874|target:_blank” el_class=”register-btn”][/vc_column][/vc_row]
URL:https://fairview-baptist.org/event/vbs/
LOCATION:Fairview Baptist Church\, 900 Charlotte Street\, Fredericksburg\, VA\, 22401
CATEGORIES:childrens-events,church-wide-events
ATTACH;FMTTYPE=image/png:https://fairview-baptist.org/wp-content/uploads/2019/03/2025-vbs-magnified-logo.png
END:VEVENT
END:VCALENDAR