BEGIN:VCALENDAR
VERSION:2.0
PRODID:-//Fairview Baptist Church - ECPv6.13.2.1//NONSGML v1.0//EN
CALSCALE:GREGORIAN
METHOD:PUBLISH
X-WR-CALNAME:Fairview Baptist Church
X-ORIGINAL-URL:https://fairview-baptist.org
X-WR-CALDESC:Events for Fairview Baptist Church
REFRESH-INTERVAL;VALUE=DURATION:PT1H
X-Robots-Tag:noindex
X-PUBLISHED-TTL:PT1H
BEGIN:VTIMEZONE
TZID:America/New_York
BEGIN:DAYLIGHT
TZOFFSETFROM:-0500
TZOFFSETTO:-0400
TZNAME:EDT
DTSTART:20180311T070000
END:DAYLIGHT
BEGIN:STANDARD
TZOFFSETFROM:-0400
TZOFFSETTO:-0500
TZNAME:EST
DTSTART:20181104T060000
END:STANDARD
BEGIN:DAYLIGHT
TZOFFSETFROM:-0500
TZOFFSETTO:-0400
TZNAME:EDT
DTSTART:20190310T070000
END:DAYLIGHT
BEGIN:STANDARD
TZOFFSETFROM:-0400
TZOFFSETTO:-0500
TZNAME:EST
DTSTART:20191103T060000
END:STANDARD
END:VTIMEZONE
BEGIN:VEVENT
DTSTART;TZID=America/New_York:20190505T180000
DTEND;TZID=America/New_York:20190505T193000
DTSTAMP:20260423T220758
CREATED:20190424T232352Z
LAST-MODIFIED:20190424T232910Z
UID:26001-1557079200-1557084600@fairview-baptist.org
SUMMARY:Children’s Musical
DESCRIPTION:“The BIG Bible Idea Group Musical” will be presented by the Children’s Choir on Sunday\, May 5th at 6:00pm.
URL:https://fairview-baptist.org/event/childrens-musical/
LOCATION:Fairview Baptist Church\, 900 Charlotte Street\, Fredericksburg\, VA\, 22401
CATEGORIES:childrens-events,church-wide-events
ATTACH;FMTTYPE=image/jpeg:https://fairview-baptist.org/wp-content/uploads/2019/04/childrens-musical-thumb2.jpg
END:VEVENT
BEGIN:VEVENT
DTSTART;TZID=America/New_York:20190502T080000
DTEND;TZID=America/New_York:20190502T093000
DTSTAMP:20260423T220758
CREATED:20190418T015634Z
LAST-MODIFIED:20190418T020315Z
UID:25973-1556784000-1556789400@fairview-baptist.org
SUMMARY:National Day of Prayer
DESCRIPTION:I think we can all agree that our great country needs to be lifted up in prayer for the Holy Spirit to fall upon it. We would like to honor this year’s National Day of Prayer with an invitation to another Free Prayer Breakfast for all Pastors and Ministers of various Christian churches in the greater Fredericksburg area.  \nPlease join us for prayer\, fellowship\, a guest speaker\, and breakfast. Our special guest speaker for the breakfast is Rev. Ryan McAdams of the Virginia Prayer Caucus. \nPlease RSVP to fbcsecretary@fairview-baptist.org\, so we may better serve everyone.
URL:https://fairview-baptist.org/event/national-day-of-prayer/
LOCATION:Fairview Baptist Church\, 900 Charlotte Street\, Fredericksburg\, VA\, 22401
CATEGORIES:adult-events,church-wide-events
ATTACH;FMTTYPE=image/png:https://fairview-baptist.org/wp-content/uploads/2019/04/2019-natl-day-of-prayer.png
END:VEVENT
BEGIN:VEVENT
DTSTART;TZID=America/New_York:20190427T080000
DTEND;TZID=America/New_York:20190427T170000
DTSTAMP:20260423T220758
CREATED:20190418T021410Z
LAST-MODIFIED:20190418T021713Z
UID:25976-1556352000-1556384400@fairview-baptist.org
SUMMARY:Rebuilding Together Work Day
DESCRIPTION:Rebuilding Together Fredericksburg is a local non-profit organization that repairs and refurbishes homes for low income and disable individuals in the City of Fredericksburg and the counties of Stafford and Spotsylvania. \nHomeowners can apply or be recommended by a friend or organization. Applications must be made and sent to Rebuilding Together. A Rebuilding Together Board Committee visits the home\, meets the family and goes over the requests and decides whether to do the project. \nOur assigned home (trailer) belongs to a family who lives in the Sylvania Heights area. You can look at the pictures on the bulletin board to see what we will be doing. This will not require a lot of workers. Also\, you must be 16 years old to volunteer. \nThere is a Rebuilding Together bulletin board that includes some past Rebuilding Together pictures along with the sign-up sheet. Please write very clearly. We will receive tee-shirts\, so indicate your size. There is a lot of preparation ahead of time to be ready; please sign up quickly. \nSteve Masters will be the House Captain for our project. We look forward to working with him and the entire team. Everything will be purchased and be on the job Saturday\, April 27th – the Rebuilding Together work day.
URL:https://fairview-baptist.org/event/rebuilding-together-work-day/
LOCATION:Sylvania Heights\, Fredericksburg\, VA\, 22408\, United States
CATEGORIES:adult-events,church-wide-events
ATTACH;FMTTYPE=image/png:https://fairview-baptist.org/wp-content/uploads/2019/04/rebuilding-together-thumb.png
END:VEVENT
BEGIN:VEVENT
DTSTART;TZID=America/New_York:20190413T090000
DTEND;TZID=America/New_York:20190413T110000
DTSTAMP:20260423T220758
CREATED:20190322T152911Z
LAST-MODIFIED:20190402T044533Z
UID:25933-1555146000-1555153200@fairview-baptist.org
SUMMARY:Family Scouting Pack 18’s Community Service Project
DESCRIPTION:The church’s men’s group and Pack 18 are preparing bags for local elementary schools. \nEmail CSPACK18@googlegroups.com or visit the Facebook page for more information.
URL:https://fairview-baptist.org/event/family-scouting-pack-18s-community-service-project/
LOCATION:Fairview Baptist Church\, 900 Charlotte Street\, Fredericksburg\, VA\, 22401
CATEGORIES:adult-events,childrens-events,church-wide-events,youth-events
ATTACH;FMTTYPE=image/png:https://fairview-baptist.org/wp-content/uploads/2019/03/cub-scouts-logo.png
END:VEVENT
BEGIN:VEVENT
DTSTART;TZID=America/New_York:20190404T180000
DTEND;TZID=America/New_York:20190404T190000
DTSTAMP:20260423T220758
CREATED:20190401T224212Z
LAST-MODIFIED:20190402T044114Z
UID:25945-1554400800-1554404400@fairview-baptist.org
SUMMARY:Raingutter Regatta
DESCRIPTION:The event is sponsored by Family Scouting Cub Scout Pack 18 and is open to all Boys and Girls in the community in grades K-5. \nIt should be a great opportunity to gather at Fairview Baptist Church and provide character development through the use of adventure. \nAll materials are provided but please RSVP on Facebook or email CSPACK18@googlegroups.com.
URL:https://fairview-baptist.org/event/raingutter-regatta/
LOCATION:Fairview Baptist Church\, 900 Charlotte Street\, Fredericksburg\, VA\, 22401
CATEGORIES:childrens-events,church-wide-events,youth-events
ATTACH;FMTTYPE=image/png:https://fairview-baptist.org/wp-content/uploads/2019/04/raingutter-regatta.png
END:VEVENT
BEGIN:VEVENT
DTSTART;TZID=America/New_York:20190120T120000
DTEND;TZID=America/New_York:20190120T130000
DTSTAMP:20260423T220758
CREATED:20190115T220627Z
LAST-MODIFIED:20190115T221344Z
UID:25837-1547985600-1547989200@fairview-baptist.org
SUMMARY:Business Meeting
DESCRIPTION:Our January 13 Business Meeting was cancelled due to the snow storm. \nWe are re-scheduling the Regular Business Meeting for Sunday\, January 20\, at 12:15 pm or immediately following our 11:00 am worship service.
URL:https://fairview-baptist.org/event/business-meeting/
LOCATION:Fairview Baptist Church\, 900 Charlotte Street\, Fredericksburg\, VA\, 22401
CATEGORIES:adult-events,church-wide-events
END:VEVENT
BEGIN:VEVENT
DTSTART;TZID=America/New_York:20181219T173000
DTEND;TZID=America/New_York:20181219T190000
DTSTAMP:20260423T220758
CREATED:20181128T043416Z
LAST-MODIFIED:20181207T164627Z
UID:25477-1545240600-1545246000@fairview-baptist.org
SUMMARY:Awana Christmas Trolley & Caroling
DESCRIPTION:Get your scarves and gloves ready! Warm up your voices!\nOur Awana Club is hitting the town for some Christmas Caroling on Wednesday\, December 19 at 6:00 pm. Everyone is invited to join us as we take the Trolley around town to visit some of our homebound members and sing some of our favorite Christmas Carols! We’ll try to return by 7:30 pm but do plan to stick around for some hot cocoa and cookies afterward. Don’t forget to wear your best red and green outfit to help celebrate the season of Jesus’ birth!
URL:https://fairview-baptist.org/event/awana-christmas-trolley-caroling/
LOCATION:Fairview Baptist Church\, 900 Charlotte Street\, Fredericksburg\, VA\, 22401
CATEGORIES:adult-events,childrens-events,church-wide-events,youth-events
ATTACH;FMTTYPE=image/jpeg:https://fairview-baptist.org/wp-content/uploads/2018/11/holiday-lights-trolley-1.jpg
END:VEVENT
END:VCALENDAR