BEGIN:VCALENDAR
VERSION:2.0
PRODID:-//Fairview Baptist Church - ECPv6.13.2.1//NONSGML v1.0//EN
CALSCALE:GREGORIAN
METHOD:PUBLISH
X-WR-CALNAME:Fairview Baptist Church
X-ORIGINAL-URL:https://fairview-baptist.org
X-WR-CALDESC:Events for Fairview Baptist Church
REFRESH-INTERVAL;VALUE=DURATION:PT1H
X-Robots-Tag:noindex
X-PUBLISHED-TTL:PT1H
BEGIN:VTIMEZONE
TZID:America/New_York
BEGIN:DAYLIGHT
TZOFFSETFROM:-0500
TZOFFSETTO:-0400
TZNAME:EDT
DTSTART:20260308T070000
END:DAYLIGHT
BEGIN:STANDARD
TZOFFSETFROM:-0400
TZOFFSETTO:-0500
TZNAME:EST
DTSTART:20261101T060000
END:STANDARD
END:VTIMEZONE
BEGIN:VEVENT
DTSTART;TZID=America/New_York:20260228T140000
DTEND;TZID=America/New_York:20260228T170000
DTSTAMP:20260423T193900
CREATED:20181127T015400Z
LAST-MODIFIED:20260210T202117Z
UID:25456-1772287200-1772298000@fairview-baptist.org
SUMMARY:Annual Benefit Oyster Roast
DESCRIPTION:[vc_row gap=”20″][vc_column width=”2/3″][vc_column_text css=””]The Benefit Oyster Roast is an annual fundraiser to benefit an individual or family in the greater Fredericksburg community. The Oyster Roast has been held annually for over 39 years and is currently sponsored and hosted by Fairview Baptist and River Club churches in conjunction with McClung-Logan Equipment Company-Fredericksburg (formerly White Oak Equipment).[/vc_column_text][vc_column_text css=”.vc_custom_1740758494335{margin-bottom: 36px !important;}”]Since its inception\, over $1.3 million has been raised to help others in our community. The event is unique in that there is no charge to attend the event; rather donations are accepted at the door or in advance. All donations go to the family or individual(s) selected as the beneficiary\, as expenses for the event are paid for by various individuals\, companies\, and organizations in the area.[/vc_column_text][vc_btn title=”DONATE HERE” style=”custom” custom_background=”#21759b” custom_text=”#ffffff” shape=”square” size=”lg” css=”.vc_custom_1627436718488{margin-right: 24px !important;}” link=”url:https%3A%2F%2Fwww.paypal.com%2Fcgi-bin%2Fwebscr%3Fcmd%3D_s-xclick%26hosted_button_id%3DBRJXGM4C45ATA||target:%20_blank|” el_class=”register-btn”][vc_btn title=”VOLUNTEER” style=”outline-custom” outline_custom_color=”#21759b” outline_custom_hover_background=”#666666″ outline_custom_hover_text=”#ffffff” shape=”square” size=”lg” css=”.vc_custom_1740758716599{margin-right: 24px !important;}” link=”url:https%3A%2F%2Fwww.signupgenius.com%2Fgo%2F5080D4EA9AF2BA0FE3-47323701-39th%23%2F|target:_blank” el_class=”register-btn\, tribe-events-back”][/vc_column][vc_column width=”1/3″ css=”.vc_custom_1580775690900{padding-top: 24px !important;padding-right: 24px !important;padding-bottom: 16px !important;padding-left: 24px !important;background-color: #21759b !important;}”][vc_column_text css=”.vc_custom_1770754830889{padding-right: 24px !important;padding-left: 24px !important;}”] \nMeet the recipient\, Sadie Sanchez\n[/vc_column_text][vc_column_text css=”.vc_custom_1770754874740{padding-right: 24px !important;padding-left: 24px !important;}”]Sadie was born with non-verbal quadriplegia cerebral palsy but that has not stopped her from being a loving and happy 12-year-old girl and full of life. She requires 24/7 care for all activities of daily living. Sadie loves art\, water therapy\, shopping\, books and adventures like camping. Her older sister\, Jillian (15)\, has been Sadie’s protector and loving support system for Sadie\, alongside her mother Chasity Musselman.[/vc_column_text][vc_btn title=”more info” style=”outline-custom” outline_custom_color=”#ffffff” outline_custom_hover_background=”#ffffff” outline_custom_hover_text=”#21759b” shape=”square” align=”center” css=”.vc_custom_1708968489923{margin-right: 24px !important;}” link=”url:https%3A%2F%2Friverclubchurch.com%2Foyster-roast%2F|target:_blank” el_class=”register-btn”][/vc_column][/vc_row]
URL:https://fairview-baptist.org/event/annual-benefit-oyster-roast/
LOCATION:Fredericksburg Fairgrounds\, 2400 Airport Avenue\, Fredericksburg\, VA\, 22401
CATEGORIES:adult-events,church-wide-events,youth-events
ATTACH;FMTTYPE=image/png:https://fairview-baptist.org/wp-content/uploads/2018/11/oyster-roast-logo-blue.png
END:VEVENT
BEGIN:VEVENT
DTSTART;TZID=America/New_York:20260418T080000
DTEND;TZID=America/New_York:20260418T140000
DTSTAMP:20260423T193900
CREATED:20190111T185917Z
LAST-MODIFIED:20260402T185933Z
UID:25833-1776499200-1776520800@fairview-baptist.org
SUMMARY:Red Cross Blood Drive
DESCRIPTION:[vc_row gap=”35″][vc_column width=”1/2″][vc_column_text css=””]Fairview Baptist Church and the American Red Cross are hosting an upcoming blood drive on Saturday\, April 18\, 2026 from 8:00am to 2:00pm. Please consider signing up to donate and also spread the word to your friends and family. The need for blood is constant and only volunteer donors can fulfill that need for patients in our community. Nationwide\, someone needs a unit of blood every 2 to 3 seconds and most of us will need blood in our lifetime. \nHere’s how to sign up: \n\nGo to: redcrossblood.org/give.html/find-drive\nEnter Sponsor Code: fairviewbaptistchurch\nClick the red “Find a Drive” button\nThen click the red “See Times” button to see available options.\n\n[/vc_column_text][/vc_column][vc_column width=”1/2″ css=”.vc_custom_1657729384091{margin-top: -24px !important;}”][vc_single_image image=”26566″ img_size=”full” onclick=”custom_link” img_link_target=”_blank” css=”” link=”https://www.redcrossblood.org/give.html/drive-results?order=DATE&range=10&zipSponsor=fairviewbaptistchurch” el_class=”no-border”][/vc_column][/vc_row]
URL:https://fairview-baptist.org/event/blood-drive/
LOCATION:Fairview Baptist Church\, 900 Charlotte Street\, Fredericksburg\, VA\, 22401
CATEGORIES:adult-events,church-wide-events
ATTACH;FMTTYPE=image/png:https://fairview-baptist.org/wp-content/uploads/2019/01/american-red-cross-logo-stacked-1.png
END:VEVENT
BEGIN:VEVENT
DTSTART;VALUE=DATE:20260615
DTEND;VALUE=DATE:20260620
DTSTAMP:20260423T193900
CREATED:20260217T182450Z
LAST-MODIFIED:20260217T195938Z
UID:29318-1781481600-1781913599@fairview-baptist.org
SUMMARY:Save the Date for VBS!
DESCRIPTION:[vc_row][vc_column width=”1/2″][vc_single_image image=”29319″ img_size=”full” css=””][/vc_column][vc_column width=”1/2″][/vc_column][/vc_row]
URL:https://fairview-baptist.org/event/save-the-date-for-vbs/
LOCATION:Fairview Baptist Church\, 900 Charlotte Street\, Fredericksburg\, VA\, 22401
CATEGORIES:childrens-events,church-wide-events,youth-events
ATTACH;FMTTYPE=image/png:https://fairview-baptist.org/wp-content/uploads/2026/02/rainforest-falls-logo-1.png
END:VEVENT
END:VCALENDAR