BEGIN:VCALENDAR
VERSION:2.0
PRODID:-//Fairview Baptist Church - ECPv6.13.2.1//NONSGML v1.0//EN
CALSCALE:GREGORIAN
METHOD:PUBLISH
X-ORIGINAL-URL:https://fairview-baptist.org
X-WR-CALDESC:Events for Fairview Baptist Church
REFRESH-INTERVAL;VALUE=DURATION:PT1H
X-Robots-Tag:noindex
X-PUBLISHED-TTL:PT1H
BEGIN:VTIMEZONE
TZID:America/New_York
BEGIN:DAYLIGHT
TZOFFSETFROM:-0500
TZOFFSETTO:-0400
TZNAME:EDT
DTSTART:20240310T070000
END:DAYLIGHT
BEGIN:STANDARD
TZOFFSETFROM:-0400
TZOFFSETTO:-0500
TZNAME:EST
DTSTART:20241103T060000
END:STANDARD
BEGIN:DAYLIGHT
TZOFFSETFROM:-0500
TZOFFSETTO:-0400
TZNAME:EDT
DTSTART:20250309T070000
END:DAYLIGHT
BEGIN:STANDARD
TZOFFSETFROM:-0400
TZOFFSETTO:-0500
TZNAME:EST
DTSTART:20251102T060000
END:STANDARD
BEGIN:DAYLIGHT
TZOFFSETFROM:-0500
TZOFFSETTO:-0400
TZNAME:EDT
DTSTART:20260308T070000
END:DAYLIGHT
BEGIN:STANDARD
TZOFFSETFROM:-0400
TZOFFSETTO:-0500
TZNAME:EST
DTSTART:20261101T060000
END:STANDARD
END:VTIMEZONE
BEGIN:VEVENT
DTSTART;TZID=America/New_York:20240824T090000
DTEND;TZID=America/New_York:20240824T110000
DTSTAMP:20260425T071023
CREATED:20230530T184354Z
LAST-MODIFIED:20240815T155957Z
UID:28109-1724490000-1724497200@fairview-baptist.org
SUMMARY:Lambert-Withers Food Pantry
DESCRIPTION:[vc_row][vc_column width=”2/3″][vc_column_text] \nServing Fredericksburg City\, Locust Grove\, Spotsylvania\, Stafford\, King George & Caroline Counties. \nQuestions: (540) 870-0005 or (540) 373-8377 \n[/vc_column_text][/vc_column][vc_column width=”1/3″][vc_single_image image=”28110″ img_size=”full”][/vc_column][/vc_row]
URL:https://fairview-baptist.org/event/lamber-withers-food-pantry/
LOCATION:VA
CATEGORIES:church-wide-events
ATTACH;FMTTYPE=image/jpeg:https://fairview-baptist.org/wp-content/uploads/2021/11/food-pantry-thumb.jpg
END:VEVENT
BEGIN:VEVENT
DTSTART;TZID=America/New_York:20240910T110000
DTEND;TZID=America/New_York:20240910T140000
DTSTAMP:20260425T071023
CREATED:20240815T160552Z
LAST-MODIFIED:20240815T162813Z
UID:28635-1725966000-1725976800@fairview-baptist.org
SUMMARY:Senior Picnic
DESCRIPTION:[vc_row][vc_column width=”1/2″][vc_column_text]Come one\, come all\, to share fellowship\, food and games. \nChicken\, rolls\, chips and drinks will be provided. \nPlease bring a side dish or dessert to share. \nHope to see you there![/vc_column_text][/vc_column][vc_column width=”1/2″][vc_single_image image=”28642″ img_size=”medium”][/vc_column][/vc_row]
URL:https://fairview-baptist.org/event/senior-picnic/
LOCATION:Lee Hill Community Center\, 1 H.C.C. Drive\, Fredericksburg\, VA\, 22407\, United States
CATEGORIES:adult-events
ATTACH;FMTTYPE=image/jpeg:https://fairview-baptist.org/wp-content/uploads/2024/08/senior-picnic-thumb.jpg
END:VEVENT
BEGIN:VEVENT
DTSTART;VALUE=DATE:20240911
DTEND;VALUE=DATE:20240912
DTSTAMP:20260425T071023
CREATED:20190718T165038Z
LAST-MODIFIED:20250915T191635Z
UID:26143-1726012800-1726099199@fairview-baptist.org
SUMMARY:Awana Begins!
DESCRIPTION:[vc_row el_class=”swap-on-mobile”][vc_column width=”1/2″][vc_column_text css=”.vc_custom_1690554237867{margin-bottom: 16px !important;}”] \n5:00-5:30pm Awana family dinner\n5:30-6:00pm Awana music time\n6:00-7:30pm Awana club time\n[/vc_column_text][vc_column_text css=”.vc_custom_1723736926771{margin-bottom: 16px !important;}”]Our Awana program is for children 4 years through currently enrolled in 5th grade. We’ll have our kick-off night on September 11th\, starting with our family dinner at 5:00pm. Please register your children early (click the blue “Register Now” button. You can donate your Awana club dues online\, or bring a check or cash with you on Sept. 11 when you come with your children. The current government related COVID requirements don’t require masks to be worn\, but feel free to if your family wishes to do so. \nWe ask for a $15 donation per child ($30 max per family)\, to help cover the costs of the Awana program. This will help us provide a shirt/vest and club handbook for your child to use throughout the year. If this creates a hardship for your family\, scholarships are available.[/vc_column_text][vc_column_text css=”.vc_custom_1723564944525{margin-top: 24px !important;margin-bottom: 16px !important;border-top-width: 3px !important;border-right-width: 3px !important;border-bottom-width: 3px !important;border-left-width: 3px !important;padding-top: 36px !important;padding-right: 36px !important;padding-bottom: 36px !important;padding-left: 36px !important;background-color: #00bcd4 !important;border-left-color: #00bcd4 !important;border-left-style: solid !important;border-right-color: #00bcd4 !important;border-right-style: solid !important;border-top-color: #00bcd4 !important;border-top-style: solid !important;border-bottom-color: #00bcd4 !important;border-bottom-style: solid !important;border-radius: 15px !important;}”]Your Awana donation can be made in the following ways: \n\n\nDonate online at onrealm.org/fairview/give/AwanaDues\n\n\nMail a check made out to Fairview Baptist Church to 900 Charlotte Street\, and mark “Awana” on the memo line.\n\n\nDrop off your donation at one of our in-person meetings throughout the year.\n\n\n[/vc_column_text][vc_column_text]If you have older students in Middle or High School\, they meet every Wednesday night for Bible Study as well. Our youth group meets up on the top floor in room 200\, so send your teens that way when they arrive. They run into 7:30 as well. \nParents can register their children for the 2024-2025 Awana year at fairview.twotimtwo.com and adults can volunteer by contacting Valerie Wiss. If you’re willing to help us out with our children’s clubs\, please let us know.[/vc_column_text][/vc_column][vc_column width=”1/2″][vc_single_image image=”26145″ img_size=”full” alignment=”center”][vc_row_inner disable_element=”yes” css=”.vc_custom_1757963791550{padding-top: 24px !important;padding-right: 24px !important;padding-bottom: 24px !important;padding-left: 24px !important;}”][vc_column_inner width=”1/2″][vc_btn title=”REGISTER NOW!” style=”flat” shape=”square” color=”primary” align=”center” link=”url:https%3A%2F%2Ffairview.twotimtwo.com||target:%20_blank|” el_class=”register-btn”][/vc_column_inner][vc_column_inner width=”1/2″][vc_btn title=”PAY AWANA DUES” style=”flat” shape=”square” color=”success” align=”center” link=”url:https%3A%2F%2Fonrealm.org%2Ffairview%2Fgive%2FAwanaDues||target:%20_blank|” el_class=”register-btn”][/vc_column_inner][/vc_row_inner][/vc_column][/vc_row]
URL:https://fairview-baptist.org/event/awana/
LOCATION:Fairview Baptist Church\, 900 Charlotte Street\, Fredericksburg\, VA\, 22401
CATEGORIES:adult-events,childrens-events,church-wide-events,News,youth-events
ATTACH;FMTTYPE=image/png:https://fairview-baptist.org/wp-content/uploads/2019/07/awana-clubs-group.png
END:VEVENT
BEGIN:VEVENT
DTSTART;VALUE=DATE:20250124
DTEND;VALUE=DATE:20250125
DTSTAMP:20260425T071023
CREATED:20250103T232852Z
LAST-MODIFIED:20250119T211044Z
UID:28847-1737676800-1737763199@fairview-baptist.org
SUMMARY:Celebration of Life Ceremony
DESCRIPTION:[vc_row][vc_column][vc_column_text css=”.vc_custom_1737321041613{margin-bottom: 4px !important;}”] \nDr. Bob Sizemore’s Celebration of Life Ceremony will be held Friday\, January 24\, at 11:00 am at Charlotte Street. A reception will follow at River Club Church. \n[/vc_column_text][vc_column_text css=”.vc_custom_1735949288166{margin-bottom: 36px !important;}”] \nWatch the ceremony below when the service begins. \n[/vc_column_text][/vc_column][/vc_row]
URL:https://fairview-baptist.org/event/celebration-of-life-ceremony/
LOCATION:Fairview Baptist Church\, 900 Charlotte Street\, Fredericksburg\, VA\, 22401
CATEGORIES:adult-events,church-wide-events
ATTACH;FMTTYPE=image/jpeg:https://fairview-baptist.org/wp-content/uploads/2025/01/dr-bob-sizemore-thumb-2.jpg
END:VEVENT
BEGIN:VEVENT
DTSTART;TZID=America/New_York:20250616T090000
DTEND;TZID=America/New_York:20250616T123000
DTSTAMP:20260425T071023
CREATED:20190312T201106Z
LAST-MODIFIED:20241029T235320Z
UID:26957-1750064400-1750077000@fairview-baptist.org
SUMMARY:Vacation Bible School
DESCRIPTION:[vc_row][vc_column width=”2/3″][/vc_column][vc_column width=”1/3″ css=”.vc_custom_1651694468751{margin-top: -80px !important;}” tablet_margin_top=”0″ mobile_margin_top=”0″][vc_single_image image=”28725″ img_size=”full” alignment=”center” css=””][vc_column_text css=””]Fairview Baptist is hosting our VBS June 16-20\, 2025 from 9:00am to 12:00pm. \nVBS is for children age 4 (as of June 16th) through children who have completed 5th grade in 2024\, and we’ll be meeting indoors for most of our activities. \nIf you have questions about VBS\, please feel free to call the church at (540) 373-8377\, or send an e-mail to vbs@fairview-baptist.org.[/vc_column_text][vc_btn title=”REGISTER NOW” style=”custom” custom_background=”#e15260″ custom_text=”#ffffff” shape=”square” size=”lg” align=”center” link=”url:https%3A%2F%2Fkideventpro.lifeway.com%2FmyEvent%2F%3Fid%3D67874|target:_blank” el_class=”register-btn”][/vc_column][/vc_row]
URL:https://fairview-baptist.org/event/vbs/
LOCATION:Fairview Baptist Church\, 900 Charlotte Street\, Fredericksburg\, VA\, 22401
CATEGORIES:childrens-events,church-wide-events
ATTACH;FMTTYPE=image/png:https://fairview-baptist.org/wp-content/uploads/2019/03/2025-vbs-magnified-logo.png
END:VEVENT
BEGIN:VEVENT
DTSTART;TZID=America/New_York:20250924T170000
DTEND;TZID=America/New_York:20250924T170000
DTSTAMP:20260425T071023
CREATED:20250915T212905Z
LAST-MODIFIED:20250916T153221Z
UID:29135-1758733200-1758733200@fairview-baptist.org
SUMMARY:Kids on Missions Club Kicks Off!
DESCRIPTION:[vc_row gap=”25″][vc_column width=”1/2″][vc_single_image image=”29136″ img_size=”full” css=””][/vc_column][vc_column width=”1/2″][vc_column_text css=””]The Fairview Kids On Missions Club is for children 4 years through those currently enrolled in 5th grade.[/vc_column_text]MORE INFO [/vc_column][/vc_row]
URL:https://fairview-baptist.org/event/kids-on-missions-club-kicks-off/
LOCATION:Fairview Baptist Church\, 900 Charlotte Street\, Fredericksburg\, VA\, 22401
CATEGORIES:adult-events,childrens-events,church-wide-events,News,youth-events
ATTACH;FMTTYPE=image/jpeg:https://fairview-baptist.org/wp-content/uploads/2025/09/kids-on-missions-thumb.jpg
END:VEVENT
BEGIN:VEVENT
DTSTART;TZID=America/New_York:20251221T110000
DTEND;TZID=America/New_York:20251221T120000
DTSTAMP:20260425T071023
CREATED:20181129T164126Z
LAST-MODIFIED:20251216T010543Z
UID:25556-1766314800-1766318400@fairview-baptist.org
SUMMARY:Christmas Concert
DESCRIPTION:
URL:https://fairview-baptist.org/event/christmas-concert/
LOCATION:Fairview Baptist Church\, 900 Charlotte Street\, Fredericksburg\, VA\, 22401
CATEGORIES:adult-events,childrens-events,church-wide-events,youth-events
ATTACH;FMTTYPE=image/jpeg:https://fairview-baptist.org/wp-content/uploads/2018/11/candlelight-service-thumb-1.jpg
END:VEVENT
BEGIN:VEVENT
DTSTART;TZID=America/New_York:20251224T170000
DTEND;TZID=America/New_York:20251224T180000
DTSTAMP:20260425T071023
CREATED:20181129T164719Z
LAST-MODIFIED:20251205T205541Z
UID:25562-1766595600-1766599200@fairview-baptist.org
SUMMARY:Christmas Eve Candlelight Service
DESCRIPTION:
URL:https://fairview-baptist.org/event/christmas-eve-service/
LOCATION:Fairview Baptist Church\, 900 Charlotte Street\, Fredericksburg\, VA\, 22401
CATEGORIES:adult-events,childrens-events,church-wide-events,youth-events
ATTACH;FMTTYPE=image/jpeg:https://fairview-baptist.org/wp-content/uploads/2018/11/candlelight-service-thumb-1.jpg
END:VEVENT
BEGIN:VEVENT
DTSTART;TZID=America/New_York:20260228T140000
DTEND;TZID=America/New_York:20260228T170000
DTSTAMP:20260425T071023
CREATED:20181127T015400Z
LAST-MODIFIED:20260210T202117Z
UID:25456-1772287200-1772298000@fairview-baptist.org
SUMMARY:Annual Benefit Oyster Roast
DESCRIPTION:[vc_row gap=”20″][vc_column width=”2/3″][vc_column_text css=””]The Benefit Oyster Roast is an annual fundraiser to benefit an individual or family in the greater Fredericksburg community. The Oyster Roast has been held annually for over 39 years and is currently sponsored and hosted by Fairview Baptist and River Club churches in conjunction with McClung-Logan Equipment Company-Fredericksburg (formerly White Oak Equipment).[/vc_column_text][vc_column_text css=”.vc_custom_1740758494335{margin-bottom: 36px !important;}”]Since its inception\, over $1.3 million has been raised to help others in our community. The event is unique in that there is no charge to attend the event; rather donations are accepted at the door or in advance. All donations go to the family or individual(s) selected as the beneficiary\, as expenses for the event are paid for by various individuals\, companies\, and organizations in the area.[/vc_column_text][vc_btn title=”DONATE HERE” style=”custom” custom_background=”#21759b” custom_text=”#ffffff” shape=”square” size=”lg” css=”.vc_custom_1627436718488{margin-right: 24px !important;}” link=”url:https%3A%2F%2Fwww.paypal.com%2Fcgi-bin%2Fwebscr%3Fcmd%3D_s-xclick%26hosted_button_id%3DBRJXGM4C45ATA||target:%20_blank|” el_class=”register-btn”][vc_btn title=”VOLUNTEER” style=”outline-custom” outline_custom_color=”#21759b” outline_custom_hover_background=”#666666″ outline_custom_hover_text=”#ffffff” shape=”square” size=”lg” css=”.vc_custom_1740758716599{margin-right: 24px !important;}” link=”url:https%3A%2F%2Fwww.signupgenius.com%2Fgo%2F5080D4EA9AF2BA0FE3-47323701-39th%23%2F|target:_blank” el_class=”register-btn\, tribe-events-back”][/vc_column][vc_column width=”1/3″ css=”.vc_custom_1580775690900{padding-top: 24px !important;padding-right: 24px !important;padding-bottom: 16px !important;padding-left: 24px !important;background-color: #21759b !important;}”][vc_column_text css=”.vc_custom_1770754830889{padding-right: 24px !important;padding-left: 24px !important;}”] \nMeet the recipient\, Sadie Sanchez\n[/vc_column_text][vc_column_text css=”.vc_custom_1770754874740{padding-right: 24px !important;padding-left: 24px !important;}”]Sadie was born with non-verbal quadriplegia cerebral palsy but that has not stopped her from being a loving and happy 12-year-old girl and full of life. She requires 24/7 care for all activities of daily living. Sadie loves art\, water therapy\, shopping\, books and adventures like camping. Her older sister\, Jillian (15)\, has been Sadie’s protector and loving support system for Sadie\, alongside her mother Chasity Musselman.[/vc_column_text][vc_btn title=”more info” style=”outline-custom” outline_custom_color=”#ffffff” outline_custom_hover_background=”#ffffff” outline_custom_hover_text=”#21759b” shape=”square” align=”center” css=”.vc_custom_1708968489923{margin-right: 24px !important;}” link=”url:https%3A%2F%2Friverclubchurch.com%2Foyster-roast%2F|target:_blank” el_class=”register-btn”][/vc_column][/vc_row]
URL:https://fairview-baptist.org/event/annual-benefit-oyster-roast/
LOCATION:Fredericksburg Fairgrounds\, 2400 Airport Avenue\, Fredericksburg\, VA\, 22401
CATEGORIES:adult-events,church-wide-events,youth-events
ATTACH;FMTTYPE=image/png:https://fairview-baptist.org/wp-content/uploads/2018/11/oyster-roast-logo-blue.png
END:VEVENT
BEGIN:VEVENT
DTSTART;TZID=America/New_York:20260418T080000
DTEND;TZID=America/New_York:20260418T140000
DTSTAMP:20260425T071023
CREATED:20190111T185917Z
LAST-MODIFIED:20260402T185933Z
UID:25833-1776499200-1776520800@fairview-baptist.org
SUMMARY:Red Cross Blood Drive
DESCRIPTION:[vc_row gap=”35″][vc_column width=”1/2″][vc_column_text css=””]Fairview Baptist Church and the American Red Cross are hosting an upcoming blood drive on Saturday\, April 18\, 2026 from 8:00am to 2:00pm. Please consider signing up to donate and also spread the word to your friends and family. The need for blood is constant and only volunteer donors can fulfill that need for patients in our community. Nationwide\, someone needs a unit of blood every 2 to 3 seconds and most of us will need blood in our lifetime. \nHere’s how to sign up: \n\nGo to: redcrossblood.org/give.html/find-drive\nEnter Sponsor Code: fairviewbaptistchurch\nClick the red “Find a Drive” button\nThen click the red “See Times” button to see available options.\n\n[/vc_column_text][/vc_column][vc_column width=”1/2″ css=”.vc_custom_1657729384091{margin-top: -24px !important;}”][vc_single_image image=”26566″ img_size=”full” onclick=”custom_link” img_link_target=”_blank” css=”” link=”https://www.redcrossblood.org/give.html/drive-results?order=DATE&range=10&zipSponsor=fairviewbaptistchurch” el_class=”no-border”][/vc_column][/vc_row]
URL:https://fairview-baptist.org/event/blood-drive/
LOCATION:Fairview Baptist Church\, 900 Charlotte Street\, Fredericksburg\, VA\, 22401
CATEGORIES:adult-events,church-wide-events
ATTACH;FMTTYPE=image/png:https://fairview-baptist.org/wp-content/uploads/2019/01/american-red-cross-logo-stacked-1.png
END:VEVENT
BEGIN:VEVENT
DTSTART;VALUE=DATE:20260615
DTEND;VALUE=DATE:20260620
DTSTAMP:20260425T071023
CREATED:20260217T182450Z
LAST-MODIFIED:20260217T195938Z
UID:29318-1781481600-1781913599@fairview-baptist.org
SUMMARY:Save the Date for VBS!
DESCRIPTION:[vc_row][vc_column width=”1/2″][vc_single_image image=”29319″ img_size=”full” css=””][/vc_column][vc_column width=”1/2″][/vc_column][/vc_row]
URL:https://fairview-baptist.org/event/save-the-date-for-vbs/
LOCATION:Fairview Baptist Church\, 900 Charlotte Street\, Fredericksburg\, VA\, 22401
CATEGORIES:childrens-events,church-wide-events,youth-events
ATTACH;FMTTYPE=image/png:https://fairview-baptist.org/wp-content/uploads/2026/02/rainforest-falls-logo-1.png
END:VEVENT
END:VCALENDAR